BEGIN:VCALENDAR
VERSION:2.0
PRODID:-//Tukios.com/
BEGIN:VEVENT
UID:74b953c2-5d48-4243-b006-976a55ca57b0@www.macarthurfh.com
DTSTAMP:20260422T180346Z
DTSTART:20260503T140000Z
DTEND:20260503T160000Z
SUMMARY:Celebration of Life
DESCRIPTION:
URL:https://www.macarthurfh.com/obituaries/karriann-rinehart
LOCATION: 15 Buntline Dr  Stamford NY 12167
GEO:42.4046903;-74.6221113
END:VEVENT
END:VCALENDAR