BEGIN:VCALENDAR
VERSION:2.0
PRODID:-//Tukios.com/
BEGIN:VEVENT
UID:7e6095ce-7e60-42c7-9520-6449dece7985@www.macarthurfh.com
DTSTAMP:20260423T195539Z
DTSTART:20260426T170000Z
DTEND:20260426T200000Z
SUMMARY:Visitation
DESCRIPTION:
URL:https://www.macarthurfh.com/obituaries/kevin-bedient
LOCATION: 134 Main St  Delhi NY 13753
GEO:42.2787626;-74.9157095
END:VEVENT
END:VCALENDAR