BEGIN:VCALENDAR
VERSION:2.0
PRODID:-//Tukios.com/
BEGIN:VEVENT
UID:c6c7dd50-22ab-45f9-97ca-926405676b92@www.macarthurfh.com
DTSTAMP:20260423T195718Z
DTSTART:20260427T190000Z
DTEND:20260427T200000Z
SUMMARY:Graveside Service
DESCRIPTION:
URL:https://www.macarthurfh.com/obituaries/kevin-bedient
LOCATION: 15 Cuddeback Avenue  Delhi NY 13753
GEO:42.2840592;-74.9140341
END:VEVENT
END:VCALENDAR