BEGIN:VCALENDAR
VERSION:2.0
PRODID:-//Tukios.com/
BEGIN:VEVENT
UID:ce12ee5c-d347-45e6-b10d-d2fcdf609988@www.macarthurfh.com
DTSTAMP:20260423T195534Z
DTSTART:20260427T200000Z
DTEND:20260427T230000Z
SUMMARY:Celebration of Life
DESCRIPTION:
URL:https://www.macarthurfh.com/obituaries/kevin-bedient
LOCATION: 140 Delview Ter Ext  Delhi NY 13753
GEO:42.2868617;-74.9124453
END:VEVENT
END:VCALENDAR