BEGIN:VCALENDAR
VERSION:2.0
PRODID:-//Tukios.com/
BEGIN:VEVENT
UID:96908997-930b-4e97-a51c-383a9f880124@www.macarthurfh.com
DTSTAMP:20260420T174320Z
DTSTART:20260425T150000Z
DTEND:20260425T160000Z
SUMMARY:Graveside Service
DESCRIPTION:
URL:https://www.macarthurfh.com/obituaries/ruth-lyons
LOCATION: 14881 New York 23  Prattsville NY 12468
GEO:42.3245391;-74.4390065
END:VEVENT
END:VCALENDAR